BEGIN:VCALENDAR
VERSION:2.0
PRODID:-//Witchcliffe Ecovillage - ECPv5.0.2.1//NONSGML v1.0//EN
CALSCALE:GREGORIAN
METHOD:PUBLISH
X-WR-CALNAME:Witchcliffe Ecovillage
X-ORIGINAL-URL:https://www.ecovillage.net.au
X-WR-CALDESC:Events for Witchcliffe Ecovillage
BEGIN:VTIMEZONE
TZID:Australia/Perth
BEGIN:STANDARD
TZOFFSETFROM:+0800
TZOFFSETTO:+0800
TZNAME:AWST
DTSTART:20200101T000000
END:STANDARD
END:VTIMEZONE
BEGIN:VEVENT
DTSTART;TZID=Australia/Perth:20220115T073000
DTEND;TZID=Australia/Perth:20220115T113000
DTSTAMP:20200301T061940
CREATED:20191017T060014Z
LAST-MODIFIED:20191017T060014Z
UID:11039-1642231800-1642246200@www.ecovillage.net.au
SUMMARY:Margaret River Farmers' Market
DESCRIPTION:The Margaret River Farmers’ Market has been a feature of the Region for over 13 years\, providing access to fresh local produce for both residents and visitors.\nFrom humble beginnings the Market has grown to be a Saturday morning fixture with up to 50 stalls\, selling everything from fruit and vegetables to meats\, eggs\, cheeses\, baked goods\, drinks\, nougat\, wine\, olive oil\, honey\, jams and chocolate. The stalls are operated by the people who grow or make the produce. This makes the Margaret River Market one of only a few genuine Farmers’ Markets in the state.\n \nCustomers can connect with the producers of the food they eat and know that they are supporting local livelihoods\, creating local employment and fulfillment. Perhaps even more importantly the Farmers’ Market has become a social event. Community members can catch up in a friendly atmosphere while they support local agriculture and food manufacturing. This builds the bonds that create community spirit\, resilience and well-being. \nEach market features a breakfast bar\, providing delicious food for Market customers. This breakfast bar is always run by a local charitable\, school or sporting organisation to raise funds for their cause. The market also features local musicians and occasional band performances. \n
URL:https://www.ecovillage.net.au/event/margaret-river-farmers-market/2022-01-15/
LOCATION:Margaret River Education Campus\, 272 Bussell Highway\, Margaret River\, Western Australia\, 6285\, Australia
CATEGORIES:Community Events,Margaret River Region Events
ATTACH;FMTTYPE=image/jpeg:https://www.ecovillage.net.au/wp-content/uploads/2019/10/MR-farmers-market-logo.jpg
END:VEVENT
BEGIN:VEVENT
DTSTART;TZID=Australia/Perth:20200320T173000
DTEND;TZID=Australia/Perth:20200320T203000
DTSTAMP:20200301T061940
CREATED:20191022T041954Z
LAST-MODIFIED:20191022T041954Z
UID:9657-1584725400-1584736200@www.ecovillage.net.au
SUMMARY:Margaret River Night Markets
DESCRIPTION:The World Food Night Market will see up to sixteen ‘world food’ vendors serving affordable ready to go food from around the globe and beverages to the community; The night market will essentially be an international food hall held outside in the park with lighting and seating creating a welcoming environment for all attending. \nThe aim of the event is to enhance the Margaret River community’s sense of place\, the opportunity for a shared cultural experience; as a special event that is affordable and fun. We hope to encourage community participation\, create tolerance and diversity\, to engender pride and overall\, strengthen community spirit. \n
URL:https://www.ecovillage.net.au/event/margaret-river-night-markets/2020-03-20/
LOCATION:Memorial Park\, Cnr Willmot Ave & Townview Tce\, Margaret River\, Western Australia\, 6285\, Australia
CATEGORIES:Community Events,Margaret River Region Events
ATTACH;FMTTYPE=image/jpeg:https://www.ecovillage.net.au/wp-content/uploads/2019/10/MR-night-markets.jpg
END:VEVENT
END:VCALENDAR